Package: BiocParallel Version: 1.42.2 Maintainer: Martin Morgan MaintainerEmail: mtmorgan.bioc at gmail.com git_url: https://git.bioconductor.org/packages/BiocParallel git_branch: RELEASE_3_21 git_last_commit: dbadae1 git_last_commit_date: 2025-07-17 21:44:42 -0400 (Thu, 17 Jul 2025)