Package: BiocNeighbors Version: 2.4.0 Command: /home/biocbuild/bbs-3.22-bioc/R/bin/R CMD INSTALL BiocNeighbors StartedAt: 2025-11-11 15:06:43 -0500 (Tue, 11 Nov 2025) EndedAt: 2025-11-11 15:07:26 -0500 (Tue, 11 Nov 2025) EllapsedTime: 43.5 seconds RetCode: 0 Status: OK