Package: BiocNeighbors Version: 2.2.0 Command: /home/biocbuild/R/R/bin/R CMD build --keep-empty-dirs --no-resave-data BiocNeighbors StartedAt: 2025-10-13 23:06:43 -0000 (Mon, 13 Oct 2025) EndedAt: 2025-10-13 23:08:07 -0000 (Mon, 13 Oct 2025) EllapsedTime: 84.0 seconds RetCode: 0 Status: OK PackageFile: BiocNeighbors_2.2.0.tar.gz PackageFileSize: 396.3 KiB