Package: BiocNeighbors Version: 2.4.0 Command: /Library/Frameworks/R.framework/Resources/bin/R CMD INSTALL BiocNeighbors StartedAt: 2025-11-10 15:01:34 -0500 (Mon, 10 Nov 2025) EndedAt: 2025-11-10 15:01:48 -0500 (Mon, 10 Nov 2025) EllapsedTime: 14.8 seconds RetCode: 0 Status: OK