Package: BiocNeighbors Version: 2.4.0 Command: rm -rf BiocNeighbors.buildbin-libdir && mkdir BiocNeighbors.buildbin-libdir && /Users/biocbuild/BBS/utils/build-universal.sh BiocNeighbors_2.4.0.tar.gz /Library/Frameworks/R.framework/Resources/bin/R BiocNeighbors.buildbin-libdir StartedAt: 2025-11-10 23:12:43 -0500 (Mon, 10 Nov 2025) EndedAt: 2025-11-10 23:12:55 -0500 (Mon, 10 Nov 2025) EllapsedTime: 12.3 seconds RetCode: 0 Status: OK PackageFile: BiocNeighbors_2.4.0.tgz PackageFileSize: 683.1 KiB