Package: BiocIO Version: 1.20.0 Command: /home/biocbuild/bbs-3.22-bioc/R/bin/R CMD check --install=check:BiocIO.install-out.txt --library=/home/biocbuild/bbs-3.22-bioc/R/site-library --timings BiocIO_1.20.0.tar.gz StartedAt: 2025-11-13 21:35:26 -0500 (Thu, 13 Nov 2025) EndedAt: 2025-11-13 21:36:02 -0500 (Thu, 13 Nov 2025) EllapsedTime: 36.0 seconds RetCode: 0 Status: OK CheckDir: BiocIO.Rcheck Warnings: 0