Package: BiocIO Version: 1.18.0 Command: /home/biocbuild/bbs-3.21-bioc/R/bin/R CMD INSTALL BiocIO StartedAt: 2025-10-15 15:12:01 -0400 (Wed, 15 Oct 2025) EndedAt: 2025-10-15 15:12:06 -0400 (Wed, 15 Oct 2025) EllapsedTime: 4.8 seconds RetCode: 0 Status: OK