Package: BiocIO Version: 1.18.0 Command: /home/biocbuild/bbs-3.21-bioc/R/bin/R CMD build --keep-empty-dirs --no-resave-data BiocIO StartedAt: 2025-10-15 16:25:43 -0400 (Wed, 15 Oct 2025) EndedAt: 2025-10-15 16:25:51 -0400 (Wed, 15 Oct 2025) EllapsedTime: 8.0 seconds RetCode: 0 Status: OK PackageFile: BiocIO_1.18.0.tar.gz PackageFileSize: 226.4 KiB