Package: BiocIO Version: 1.20.0 Command: /Library/Frameworks/R.framework/Resources/bin/R CMD INSTALL BiocIO StartedAt: 2025-10-30 15:13:21 -0400 (Thu, 30 Oct 2025) EndedAt: 2025-10-30 15:13:30 -0400 (Thu, 30 Oct 2025) EllapsedTime: 9.7 seconds RetCode: 0 Status: OK