Package: BiocIO Version: 1.18.0 Command: /home/biocbuild/R/R/bin/R CMD INSTALL BiocIO StartedAt: 2025-09-29 20:25:05 -0000 (Mon, 29 Sep 2025) EndedAt: 2025-09-29 20:25:12 -0000 (Mon, 29 Sep 2025) EllapsedTime: 7.9 seconds RetCode: 0 Status: OK