Package: BiocIO Version: 1.18.0 Command: /home/biocbuild/R/R/bin/R CMD build --keep-empty-dirs --no-resave-data BiocIO StartedAt: 2025-09-29 23:05:56 -0000 (Mon, 29 Sep 2025) EndedAt: 2025-09-29 23:06:08 -0000 (Mon, 29 Sep 2025) EllapsedTime: 12.0 seconds RetCode: 0 Status: OK PackageFile: BiocIO_1.18.0.tar.gz PackageFileSize: 251.3 KiB