Package: BiocIO Version: 1.18.0 Command: /Library/Frameworks/R.framework/Resources/bin/R CMD INSTALL BiocIO StartedAt: 2025-10-13 15:35:21 -0400 (Mon, 13 Oct 2025) EndedAt: 2025-10-13 15:35:28 -0400 (Mon, 13 Oct 2025) EllapsedTime: 6.2 seconds RetCode: 0 Status: OK