Package: BiocHubsShiny Version: 1.8.1 Command: /home/biocbuild/R/R/bin/R CMD INSTALL BiocHubsShiny StartedAt: 2025-10-09 20:40:55 -0000 (Thu, 09 Oct 2025) EndedAt: 2025-10-09 20:41:16 -0000 (Thu, 09 Oct 2025) EllapsedTime: 20.7 seconds RetCode: 0 Status: OK