Package: BiocHubsShiny Version: 1.8.1 Command: /home/biocbuild/R/R/bin/R CMD build --keep-empty-dirs --no-resave-data BiocHubsShiny StartedAt: 2025-10-09 23:05:51 -0000 (Thu, 09 Oct 2025) EndedAt: 2025-10-09 23:06:19 -0000 (Thu, 09 Oct 2025) EllapsedTime: 28.0 seconds RetCode: 0 Status: OK PackageFile: BiocHubsShiny_1.8.1.tar.gz PackageFileSize: 1.63 MiB