Package: BiocHail Version: 1.10.0 Command: /home/biocbuild/bbs-3.22-bioc/R/bin/R CMD build --keep-empty-dirs --no-resave-data --md5 BiocHail StartedAt: 2025-11-06 16:30:30 -0500 (Thu, 06 Nov 2025) EndedAt: 2025-11-06 16:31:00 -0500 (Thu, 06 Nov 2025) EllapsedTime: 30.0 seconds RetCode: 0 Status: OK PackageFile: BiocHail_1.10.0.tar.gz PackageFileSize: 2.608 MiB