Package: BiocGenerics Version: 0.56.0 Command: /home/biocbuild/bbs-3.22-bioc/R/bin/R CMD INSTALL BiocGenerics StartedAt: 2025-11-11 15:15:50 -0500 (Tue, 11 Nov 2025) EndedAt: 2025-11-11 15:16:00 -0500 (Tue, 11 Nov 2025) EllapsedTime: 9.6 seconds RetCode: 0 Status: OK