Package: BiocGenerics Version: 0.56.0 Command: /home/biocbuild/bbs-3.22-bioc/R/bin/R CMD check --install=check:BiocGenerics.install-out.txt --library=/home/biocbuild/bbs-3.22-bioc/R/site-library --timings BiocGenerics_0.56.0.tar.gz StartedAt: 2025-11-11 21:36:50 -0500 (Tue, 11 Nov 2025) EndedAt: 2025-11-11 21:37:39 -0500 (Tue, 11 Nov 2025) EllapsedTime: 49.1 seconds RetCode: 0 Status: WARNINGS CheckDir: BiocGenerics.Rcheck Warnings: 1