Package: BiocGenerics Version: 0.56.0 Command: /home/biocbuild/bbs-3.22-bioc/R/bin/R CMD build --keep-empty-dirs --no-resave-data --md5 BiocGenerics StartedAt: 2025-11-11 16:33:32 -0500 (Tue, 11 Nov 2025) EndedAt: 2025-11-11 16:33:34 -0500 (Tue, 11 Nov 2025) EllapsedTime: 2.0 seconds RetCode: 0 Status: OK PackageFile: BiocGenerics_0.56.0.tar.gz PackageFileSize: 60.1 KiB