Package: BiocGenerics Version: 0.54.1 Command: /home/biocbuild/bbs-3.21-bioc/R/bin/R CMD INSTALL BiocGenerics StartedAt: 2025-10-15 15:10:56 -0400 (Wed, 15 Oct 2025) EndedAt: 2025-10-15 15:11:06 -0400 (Wed, 15 Oct 2025) EllapsedTime: 10.5 seconds RetCode: 0 Status: OK