Package: BiocGenerics Version: 0.54.1 Command: /home/biocbuild/bbs-3.21-bioc/R/bin/R CMD build --keep-empty-dirs --no-resave-data BiocGenerics StartedAt: 2025-10-15 16:25:36 -0400 (Wed, 15 Oct 2025) EndedAt: 2025-10-15 16:25:38 -0400 (Wed, 15 Oct 2025) EllapsedTime: 2.0 seconds RetCode: 0 Status: OK PackageFile: BiocGenerics_0.54.1.tar.gz PackageFileSize: 55.16 KiB