Package: BiocGenerics Version: 0.54.0 Command: /home/biocbuild/R/R/bin/R CMD INSTALL BiocGenerics StartedAt: 2025-09-29 20:23:47 -0000 (Mon, 29 Sep 2025) EndedAt: 2025-09-29 20:23:56 -0000 (Mon, 29 Sep 2025) EllapsedTime: 8.4 seconds RetCode: 0 Status: OK