Package: BiocGenerics Version: 0.54.1 Command: /Library/Frameworks/R.framework/Resources/bin/R CMD INSTALL BiocGenerics StartedAt: 2025-10-13 15:32:14 -0400 (Mon, 13 Oct 2025) EndedAt: 2025-10-13 15:32:19 -0400 (Mon, 13 Oct 2025) EllapsedTime: 5.5 seconds RetCode: 0 Status: OK