Package: BiocGenerics Version: 0.56.0 Maintainer: Hervé Pagès MaintainerEmail: hpages.on.github at gmail.com git_url: https://git.bioconductor.org/packages/BiocGenerics git_branch: RELEASE_3_22 git_last_commit: 16cf16d git_last_commit_date: 2025-10-29 14:11:58 -0400 (Wed, 29 Oct 2025)