Package: BiocFileCache Version: 3.0.0 Command: /home/biocbuild/R/R/bin/R CMD INSTALL BiocFileCache StartedAt: 2025-11-10 21:13:07 -0000 (Mon, 10 Nov 2025) EndedAt: 2025-11-10 21:13:30 -0000 (Mon, 10 Nov 2025) EllapsedTime: 23.3 seconds RetCode: 0 Status: OK