Package: BiocFileCache Version: 3.0.0 Command: /home/biocbuild/R/R/bin/R CMD check --install=check:BiocFileCache.install-out.txt --library=/home/biocbuild/R/R/site-library --no-vignettes --timings BiocFileCache_3.0.0.tar.gz StartedAt: 2025-11-14 07:09:41 -0000 (Fri, 14 Nov 2025) EndedAt: 2025-11-14 07:13:38 -0000 (Fri, 14 Nov 2025) EllapsedTime: 237.3 seconds RetCode: 0 Status: OK CheckDir: BiocFileCache.Rcheck Warnings: 0