Package: BiocFileCache Version: 3.0.0 Command: /home/biocbuild/R/R/bin/R CMD build --keep-empty-dirs --no-resave-data BiocFileCache StartedAt: 2025-11-10 23:59:39 -0000 (Mon, 10 Nov 2025) EndedAt: 2025-11-11 00:02:50 -0000 (Tue, 11 Nov 2025) EllapsedTime: 191.1 seconds RetCode: 0 Status: OK PackageFile: BiocFileCache_3.0.0.tar.gz PackageFileSize: 799.2 KiB