Package: BiocFileCache Version: 3.0.0 Command: /home/biocbuild/bbs-3.22-bioc/R/bin/R CMD INSTALL BiocFileCache StartedAt: 2025-11-11 15:13:21 -0500 (Tue, 11 Nov 2025) EndedAt: 2025-11-11 15:13:28 -0500 (Tue, 11 Nov 2025) EllapsedTime: 7.0 seconds RetCode: 0 Status: OK