Package: BiocFileCache Version: 3.0.0 Command: /home/biocbuild/bbs-3.22-bioc/R/bin/R CMD check --install=check:BiocFileCache.install-out.txt --library=/home/biocbuild/bbs-3.22-bioc/R/site-library --timings BiocFileCache_3.0.0.tar.gz StartedAt: 2025-11-11 21:36:46 -0500 (Tue, 11 Nov 2025) EndedAt: 2025-11-11 21:39:06 -0500 (Tue, 11 Nov 2025) EllapsedTime: 140.2 seconds RetCode: 0 Status: OK CheckDir: BiocFileCache.Rcheck Warnings: 0