Package: BiocFileCache Version: 3.0.0 Command: /home/biocbuild/bbs-3.22-bioc/R/bin/R CMD build --keep-empty-dirs --no-resave-data --md5 BiocFileCache StartedAt: 2025-11-11 16:33:26 -0500 (Tue, 11 Nov 2025) EndedAt: 2025-11-11 16:36:45 -0500 (Tue, 11 Nov 2025) EllapsedTime: 198.2 seconds RetCode: 0 Status: OK PackageFile: BiocFileCache_3.0.0.tar.gz PackageFileSize: 726.7 KiB