Package: BiocFileCache Version: 2.16.2 Command: /home/biocbuild/bbs-3.21-bioc/R/bin/R CMD INSTALL BiocFileCache StartedAt: 2025-09-28 15:23:58 -0400 (Sun, 28 Sep 2025) EndedAt: 2025-09-28 15:24:07 -0400 (Sun, 28 Sep 2025) EllapsedTime: 9.5 seconds RetCode: 0 Status: OK