Package: BiocFileCache Version: 2.16.2 Command: /home/biocbuild/bbs-3.21-bioc/R/bin/R CMD check --install=check:BiocFileCache.install-out.txt --library=/home/biocbuild/bbs-3.21-bioc/R/site-library --timings BiocFileCache_2.16.2.tar.gz StartedAt: 2025-10-12 21:13:29 -0400 (Sun, 12 Oct 2025) EndedAt: 2025-10-12 21:15:41 -0400 (Sun, 12 Oct 2025) EllapsedTime: 132.2 seconds RetCode: 0 Status: OK CheckDir: BiocFileCache.Rcheck Warnings: 0