Package: BiocFileCache Version: 3.0.0 Command: /Library/Frameworks/R.framework/Resources/bin/R CMD check --install=check:BiocFileCache.install-out.txt --library=/Library/Frameworks/R.framework/Resources/library --no-vignettes --timings BiocFileCache_3.0.0.tar.gz StartedAt: 2025-10-31 19:47:51 -0400 (Fri, 31 Oct 2025) EndedAt: 2025-10-31 19:49:41 -0400 (Fri, 31 Oct 2025) EllapsedTime: 110.5 seconds RetCode: 0 Status: OK CheckDir: BiocFileCache.Rcheck Warnings: 0