Package: BiocFileCache Version: 2.16.2 Command: /home/biocbuild/R/R/bin/R CMD check --install=check:BiocFileCache.install-out.txt --library=/home/biocbuild/R/R/site-library --no-vignettes --timings BiocFileCache_2.16.2.tar.gz StartedAt: 2025-10-03 06:25:44 -0000 (Fri, 03 Oct 2025) EndedAt: 2025-10-03 06:28:27 -0000 (Fri, 03 Oct 2025) EllapsedTime: 163.1 seconds RetCode: 0 Status: OK CheckDir: BiocFileCache.Rcheck Warnings: 0