Package: BiocFileCache Version: 2.16.2 Command: /Library/Frameworks/R.framework/Resources/bin/R CMD check --install=check:BiocFileCache.install-out.txt --library=/Library/Frameworks/R.framework/Resources/library --no-vignettes --timings BiocFileCache_2.16.2.tar.gz StartedAt: 2025-10-14 14:12:06 -0400 (Tue, 14 Oct 2025) EndedAt: 2025-10-14 14:15:33 -0400 (Tue, 14 Oct 2025) EllapsedTime: 207.1 seconds RetCode: 0 Status: OK CheckDir: BiocFileCache.Rcheck Warnings: 0