Package: BiocFHIR Version: 1.12.0 Command: /home/biocbuild/bbs-3.22-bioc/R/bin/R CMD build --keep-empty-dirs --no-resave-data --md5 BiocFHIR StartedAt: 2025-11-13 16:30:31 -0500 (Thu, 13 Nov 2025) EndedAt: 2025-11-13 16:31:01 -0500 (Thu, 13 Nov 2025) EllapsedTime: 30.0 seconds RetCode: 0 Status: OK PackageFile: BiocFHIR_1.12.0.tar.gz PackageFileSize: 4.291 MiB