Package: BiocCheck Version: 1.44.2 Command: /home/biocbuild/bbs-3.21-bioc/R/bin/R CMD INSTALL BiocCheck StartedAt: 2025-10-15 15:13:24 -0400 (Wed, 15 Oct 2025) EndedAt: 2025-10-15 15:13:34 -0400 (Wed, 15 Oct 2025) EllapsedTime: 10.1 seconds RetCode: 0 Status: OK