Package: BiocCheck Version: 1.44.2 Command: /home/biocbuild/R/R/bin/R CMD INSTALL BiocCheck StartedAt: 2025-09-29 20:27:24 -0000 (Mon, 29 Sep 2025) EndedAt: 2025-09-29 20:27:37 -0000 (Mon, 29 Sep 2025) EllapsedTime: 13.8 seconds RetCode: 0 Status: OK