Package: BiocCheck Version: 1.44.2 Command: /Library/Frameworks/R.framework/Resources/bin/R CMD build --keep-empty-dirs --no-resave-data BiocCheck StartedAt: 2025-10-13 19:58:08 -0400 (Mon, 13 Oct 2025) EndedAt: 2025-10-13 19:58:26 -0400 (Mon, 13 Oct 2025) EllapsedTime: 18.2 seconds RetCode: 0 Status: OK PackageFile: BiocCheck_1.44.2.tar.gz PackageFileSize: 309.4 KiB