Package: BiocCheck Version: 1.46.0 Maintainer: Marcel Ramos MaintainerEmail: marcel.ramos at sph.cuny.edu git_url: https://git.bioconductor.org/packages/BiocCheck git_branch: RELEASE_3_22 git_last_commit: 79a3619 git_last_commit_date: 2025-10-29 19:20:08 -0400 (Wed, 29 Oct 2025)