Package: BiocBook Version: 1.8.0 Command: /home/biocbuild/R/R/bin/R CMD build --keep-empty-dirs --no-resave-data BiocBook StartedAt: 2025-11-21 00:42:28 -0000 (Fri, 21 Nov 2025) EndedAt: 2025-11-21 00:42:59 -0000 (Fri, 21 Nov 2025) EllapsedTime: 31.0 seconds RetCode: 0 Status: OK PackageFile: BiocBook_1.8.0.tar.gz PackageFileSize: 967.8 KiB