Package: BiocBook Version: 1.8.0 Command: /home/biocbuild/bbs-3.22-bioc/R/bin/R CMD INSTALL BiocBook StartedAt: 2025-11-11 15:16:02 -0500 (Tue, 11 Nov 2025) EndedAt: 2025-11-11 15:16:08 -0500 (Tue, 11 Nov 2025) EllapsedTime: 5.5 seconds RetCode: 0 Status: OK