Package: BiocBook Version: 1.8.0 Command: /home/biocbuild/bbs-3.22-bioc/R/bin/R CMD build --keep-empty-dirs --no-resave-data --md5 BiocBook StartedAt: 2025-11-11 16:33:14 -0500 (Tue, 11 Nov 2025) EndedAt: 2025-11-11 16:33:42 -0500 (Tue, 11 Nov 2025) EllapsedTime: 28.0 seconds RetCode: 0 Status: OK PackageFile: BiocBook_1.8.0.tar.gz PackageFileSize: 903.7 KiB