Package: BiocBook Version: 1.6.0 Command: /home/biocbuild/bbs-3.21-bioc/R/bin/R CMD INSTALL BiocBook StartedAt: 2025-10-15 15:11:08 -0400 (Wed, 15 Oct 2025) EndedAt: 2025-10-15 15:11:14 -0400 (Wed, 15 Oct 2025) EllapsedTime: 6.0 seconds RetCode: 0 Status: OK