Package: BiocBook Version: 1.6.0 Command: /home/biocbuild/bbs-3.21-bioc/R/bin/R CMD build --keep-empty-dirs --no-resave-data BiocBook StartedAt: 2025-10-15 16:25:24 -0400 (Wed, 15 Oct 2025) EndedAt: 2025-10-15 16:26:03 -0400 (Wed, 15 Oct 2025) EllapsedTime: 39.1 seconds RetCode: 0 Status: OK PackageFile: BiocBook_1.6.0.tar.gz PackageFileSize: 902.9 KiB