Package: BiocBook Version: 1.6.0 Command: /home/biocbuild/R/R/bin/R CMD build --keep-empty-dirs --no-resave-data BiocBook StartedAt: 2025-09-25 23:06:16 -0000 (Thu, 25 Sep 2025) EndedAt: 2025-09-25 23:07:01 -0000 (Thu, 25 Sep 2025) EllapsedTime: 45.0 seconds RetCode: 0 Status: OK PackageFile: BiocBook_1.6.0.tar.gz PackageFileSize: 967.9 KiB