Package: BiocBook Version: 1.6.0 Command: rm -rf BiocBook.buildbin-libdir && mkdir BiocBook.buildbin-libdir && /Users/biocbuild/BBS/utils/build-universal.sh BiocBook_1.6.0.tar.gz /Library/Frameworks/R.framework/Resources/bin/R BiocBook.buildbin-libdir StartedAt: 2025-04-21 22:27:33 -0400 (Mon, 21 Apr 2025) EndedAt: 2025-04-21 22:27:37 -0400 (Mon, 21 Apr 2025) EllapsedTime: 4.1 seconds RetCode: 0 Status: OK PackageFile: BiocBook_1.6.0.tgz PackageFileSize: 1.028 MiB