Package: BiocBook Version: 1.6.0 Command: /Library/Frameworks/R.framework/Resources/bin/R CMD INSTALL BiocBook StartedAt: 2025-10-13 15:35:37 -0400 (Mon, 13 Oct 2025) EndedAt: 2025-10-13 15:35:44 -0400 (Mon, 13 Oct 2025) EllapsedTime: 6.9 seconds RetCode: 0 Status: OK