Package: BiocBook Version: 1.8.0 Maintainer: Jacques Serizay MaintainerEmail: jacquesserizay at gmail.com git_url: https://git.bioconductor.org/packages/BiocBook git_branch: RELEASE_3_22 git_last_commit: 7c3194e git_last_commit_date: 2025-10-29 11:25:47 -0400 (Wed, 29 Oct 2025)