Package: BiocBaseUtils Version: 1.12.0 Command: /home/biocbuild/R/R/bin/R CMD INSTALL BiocBaseUtils StartedAt: 2025-11-10 21:03:13 -0000 (Mon, 10 Nov 2025) EndedAt: 2025-11-10 21:03:40 -0000 (Mon, 10 Nov 2025) EllapsedTime: 26.8 seconds RetCode: 0 Status: OK