Package: BiocBaseUtils Version: 1.12.0 Command: /home/biocbuild/bbs-3.22-bioc/R/bin/R CMD INSTALL BiocBaseUtils StartedAt: 2025-11-11 15:06:40 -0500 (Tue, 11 Nov 2025) EndedAt: 2025-11-11 15:06:51 -0500 (Tue, 11 Nov 2025) EllapsedTime: 11.2 seconds RetCode: 0 Status: OK